BEGIN:VCALENDAR
VERSION:2.0
PRODID:-//Golf Industry UK/EU - ECPv6.15.20//NONSGML v1.0//EN
CALSCALE:GREGORIAN
METHOD:PUBLISH
X-ORIGINAL-URL:https://www.golfindustryukeu.com
X-WR-CALDESC:Events for Golf Industry UK/EU
REFRESH-INTERVAL;VALUE=DURATION:PT1H
X-Robots-Tag:noindex
X-PUBLISHED-TTL:PT1H
BEGIN:VTIMEZONE
TZID:America/Los_Angeles
BEGIN:DAYLIGHT
TZOFFSETFROM:-0800
TZOFFSETTO:-0700
TZNAME:PDT
DTSTART:20240310T100000
END:DAYLIGHT
BEGIN:STANDARD
TZOFFSETFROM:-0700
TZOFFSETTO:-0800
TZNAME:PST
DTSTART:20241103T090000
END:STANDARD
BEGIN:DAYLIGHT
TZOFFSETFROM:-0800
TZOFFSETTO:-0700
TZNAME:PDT
DTSTART:20250309T100000
END:DAYLIGHT
BEGIN:STANDARD
TZOFFSETFROM:-0700
TZOFFSETTO:-0800
TZNAME:PST
DTSTART:20251102T090000
END:STANDARD
BEGIN:DAYLIGHT
TZOFFSETFROM:-0800
TZOFFSETTO:-0700
TZNAME:PDT
DTSTART:20260308T100000
END:DAYLIGHT
BEGIN:STANDARD
TZOFFSETFROM:-0700
TZOFFSETTO:-0800
TZNAME:PST
DTSTART:20261101T090000
END:STANDARD
END:VTIMEZONE
BEGIN:VEVENT
DTSTART;TZID=America/Los_Angeles:20250915T080000
DTEND;TZID=America/Los_Angeles:20250917T170000
DTSTAMP:20260425T165415
CREATED:20250130T160245Z
LAST-MODIFIED:20250130T160245Z
UID:1777-1757923200-1758128400@www.golfindustryukeu.com
SUMMARY:The Golf Inc. Strategies Summit
DESCRIPTION:The Golf Inc. Strategies Summit 2025 will be at the Westin Lake Las Vegas from September 15-17\, 2025. \nNetwork with the golf industry's top influencers\, smartest minds\, and visionary leaders in this highly anticipated Golf Strategies event. \nThis three-day event will host 50+ presenters\, 20+ education sessions\, and multiple hours of networking events!
URL:https://www.golfindustryukeu.com/event/the-golf-inc-strategies-summit/
CATEGORIES:All events
ATTACH;FMTTYPE=image/png:https://www.golfindustryukeu.com/wp-content/uploads/2025/01/unnamed.png
END:VEVENT
END:VCALENDAR