BEGIN:VCALENDAR
VERSION:2.0
PRODID:-//Golf Industry UK/EU - ECPv6.15.20//NONSGML v1.0//EN
CALSCALE:GREGORIAN
METHOD:PUBLISH
X-WR-CALNAME:Golf Industry UK/EU
X-ORIGINAL-URL:https://www.golfindustryukeu.com
X-WR-CALDESC:Events for Golf Industry UK/EU
REFRESH-INTERVAL;VALUE=DURATION:PT1H
X-Robots-Tag:noindex
X-PUBLISHED-TTL:PT1H
BEGIN:VTIMEZONE
TZID:Asia/Dubai
BEGIN:STANDARD
TZOFFSETFROM:+0400
TZOFFSETTO:+0400
TZNAME:+04
DTSTART:20250101T000000
END:STANDARD
END:VTIMEZONE
BEGIN:VTIMEZONE
TZID:Europe/London
BEGIN:DAYLIGHT
TZOFFSETFROM:+0000
TZOFFSETTO:+0100
TZNAME:BST
DTSTART:20250330T010000
END:DAYLIGHT
BEGIN:STANDARD
TZOFFSETFROM:+0100
TZOFFSETTO:+0000
TZNAME:GMT
DTSTART:20251026T010000
END:STANDARD
BEGIN:DAYLIGHT
TZOFFSETFROM:+0000
TZOFFSETTO:+0100
TZNAME:BST
DTSTART:20260329T010000
END:DAYLIGHT
BEGIN:STANDARD
TZOFFSETFROM:+0100
TZOFFSETTO:+0000
TZNAME:GMT
DTSTART:20261025T010000
END:STANDARD
BEGIN:DAYLIGHT
TZOFFSETFROM:+0000
TZOFFSETTO:+0100
TZNAME:BST
DTSTART:20270328T010000
END:DAYLIGHT
BEGIN:STANDARD
TZOFFSETFROM:+0100
TZOFFSETTO:+0000
TZNAME:GMT
DTSTART:20271031T010000
END:STANDARD
END:VTIMEZONE
BEGIN:VTIMEZONE
TZID:Atlantic/Canary
BEGIN:DAYLIGHT
TZOFFSETFROM:+0000
TZOFFSETTO:+0100
TZNAME:WEST
DTSTART:20250330T010000
END:DAYLIGHT
BEGIN:STANDARD
TZOFFSETFROM:+0100
TZOFFSETTO:+0000
TZNAME:WET
DTSTART:20251026T010000
END:STANDARD
BEGIN:DAYLIGHT
TZOFFSETFROM:+0000
TZOFFSETTO:+0100
TZNAME:WEST
DTSTART:20260329T010000
END:DAYLIGHT
BEGIN:STANDARD
TZOFFSETFROM:+0100
TZOFFSETTO:+0000
TZNAME:WET
DTSTART:20261025T010000
END:STANDARD
BEGIN:DAYLIGHT
TZOFFSETFROM:+0000
TZOFFSETTO:+0100
TZNAME:WEST
DTSTART:20270328T010000
END:DAYLIGHT
BEGIN:STANDARD
TZOFFSETFROM:+0100
TZOFFSETTO:+0000
TZNAME:WET
DTSTART:20271031T010000
END:STANDARD
END:VTIMEZONE
BEGIN:VTIMEZONE
TZID:Australia/Brisbane
BEGIN:STANDARD
TZOFFSETFROM:+1000
TZOFFSETTO:+1000
TZNAME:AEST
DTSTART:20260101T000000
END:STANDARD
END:VTIMEZONE
BEGIN:VEVENT
DTSTART;TZID=Asia/Dubai:20260417T080000
DTEND;TZID=Asia/Dubai:20260417T170000
DTSTAMP:20260422T024140
CREATED:20250806T164717Z
LAST-MODIFIED:20260326T074122Z
UID:4125-1776412800-1776445200@www.golfindustryukeu.com
SUMMARY:(POSTPONED) MENA Turf Show to Launch in 2026
DESCRIPTION:Dubai\, United Arab Emirates: The turf industry is set to converge in the Middle East next year with the launch of the MENA TURF SHOW. \nSupported by VIYA GOLF\, this will be the Middle East and North Africa region’s first dedicated event for golf\, sports turf and landscaping innovation. As such\, the show\, which will take place on April 17\, 2026 at the Park Hyatt Dubai and Dubai Creek Golf & Yacht Club\, will provide a vital platform for professionals to connect\, discover new technologies\, and share expertise. \nFrom golf course superintendents to sports venue managers and golf course architects\, THE MENA TURF SHOW promises insights and solutions tailored to the unique challenges of the Middle East’s climate. \nAttendees can look forward to expert-led sessions covering topics such as sustainable turf practices\, sports field construction and maintenance\, R&D agronomy insights and golf industry future trends. \nTHE MENA TURF SHOW has been made possible by the sponsorship of Campey Turf Care Systems and Polyclean Turf Division UAE\, whose support underscores the importance of bringing cutting-edge turf solutions to the region. \nOrganisers said the event will blend cutting-edge technology with practical insights for maintaining high-quality turf and landscapes in extreme conditions. \n“The Middle East is investing heavily in world-class golf courses\, sports facilities\, and green spaces\,” said Nick Brown\, Export Sales Manager at Campey Turf Care Systems and an Asian Golf Industry Federation (AGIF) Board Member. “The MENA TURF SHOW will serve as a vital hub for innovation and collaboration\, helping industry leaders shape the future of turf management across the region\,” he added. \nBabiker Khateeb\, Commercial Director Polyclean Turf Division UAE\, said: “Sustainability and innovation are key to managing turf in extreme climates. The MENA TURF SHOW is the perfect platform to bring education that can transform how we care for sports surfaces and landscapes in this unique environment.” \nAs the Official Educational Partner of the MENA TURF SHOW\, the AGIF will play a vital role in delivering industry-leading knowledge\, training\, and thought leadership to turf and golf professionals across the region. \nChris Gray\, President of the AGIF\, said: “We congratulate all those involved in this exciting initiative and look forward to supporting the event.” \nFurther details on registration will be announced soon. \nFor updates: \n• Visit www.themenaturfshow.com or follow:
URL:https://www.golfindustryukeu.com/event/mena-turf-show-to-launch-in-2026/
ATTACH;FMTTYPE=image/jpeg:https://www.golfindustryukeu.com/wp-content/uploads/2025/08/Social-Square2.jpg
END:VEVENT
BEGIN:VEVENT
DTSTART;TZID=Europe/London:20260505T080000
DTEND;TZID=Europe/London:20260507T170000
DTSTAMP:20260422T024140
CREATED:20251231T132408Z
LAST-MODIFIED:20251231T132517Z
UID:5557-1777968000-1778173200@www.golfindustryukeu.com
SUMMARY:Golf Business Technology Conference 2026
DESCRIPTION:The Golf Business Technology Conference 2026 will take place from May 5-7 returning to the vibrant city of Belfast\, Northern Ireland—an internationally recognized destination for business\, innovation\, and world-class hospitality. \nHosted at the award-winning Merchant Hotel\, GBTC 2026 is set to bring together global leaders in golf\, technology\, data\, and sports innovation for three days of insight\, networking\, and discovery. The conference provides a unique platform to explore the rapidly evolving landscape of golf technology—from smart course management and digital fan engagement to AI\, sustainability solutions\, Revenue Generation\, Golf Entertainment\, Operational Efficiency\, Club Management\, Leadership and beyond. Learn to better manage your course like an investment and understand the latest advancements in tech and entertainment whilst taking home powerful and innovative ideas that can improve your bottom line.
URL:https://www.golfindustryukeu.com/event/golf-business-technology-conference-2026/
CATEGORIES:All events
ATTACH;FMTTYPE=:
END:VEVENT
BEGIN:VEVENT
DTSTART;TZID=Atlantic/Canary:20261025T080000
DTEND;TZID=Atlantic/Canary:20261028T170000
DTSTAMP:20260422T024140
CREATED:20251001T125301Z
LAST-MODIFIED:20251001T125301Z
UID:4731-1792915200-1793206800@www.golfindustryukeu.com
SUMMARY:2026 European Conference on Club Management Heads
DESCRIPTION:The Club Management community is invited to mark their calendars for one of the most anticipated events in the industry. The European Conference on Club Management will take place from 25–28 October 2026 in the historic and globally renowned town of St Andrews\, Scotland. \nThis biennial conference brings together general managers\, club executives\, and industry experts from across Europe\, Middle East and beyond. Delegates will enjoy immersive education\, thought leadership\, and unparalleled networking opportunities in a destination steeped in tradition and excellence. \nIn a special video message\, Torbjörn Johansson\, CEO\, extended a warm invitation to the community: \n“St Andrews offers a unique blend of heritage\, hospitality\, and innovation – making it the perfect backdrop for our 2026 European Conference. We look forward to welcoming club leaders for what promises to be an unforgettable experience.” \nIn addition to the conference program\, delegates will have the option to participate in an extra day of activities\, including golf at world-class courses\, padel tennis\, and other recreational and social experiences designed to enrich the St Andrews visit and foster deeper professional connections. \nConference details\, including speakers\, session topics\, and registration information\, will be released in early 2026. \nFor now\, save the date: 25–28 October 2026. We look forward to seeing you in St Andrews.
URL:https://www.golfindustryukeu.com/event/2026-european-conference-on-club-management-heads/
CATEGORIES:All events
ATTACH;FMTTYPE=:
END:VEVENT
BEGIN:VEVENT
DTSTART;TZID=Australia/Brisbane:20270126T080000
DTEND;TZID=Australia/Brisbane:20270129T170000
DTSTAMP:20260422T024140
CREATED:20260203T141357Z
LAST-MODIFIED:20260203T141357Z
UID:5584-1800950400-1801242000@www.golfindustryukeu.com
SUMMARY:2027 The PGA Show
DESCRIPTION:The PGA Show\, organized by Reed Exhibitions (RX) and the PGA of America\, is the longest running and largest global gathering for the business of golf. PGA of America Golf Professionals and industry leaders form a dynamic international community to source and test the game’s latest innovations\, learn proven business solutions from industry experts\, develop skills and connections to further their career\, create additional value for facilities\, build their individual business and drive continued growth of the sport. The PGA Show returns to Orlando\, Jan. 21-24\, 2025. The event remains a trade-only event\, not open to the public.
URL:https://www.golfindustryukeu.com/event/2027-the-pga-show/
CATEGORIES:All events
ATTACH;FMTTYPE=image/png:https://www.golfindustryukeu.com/wp-content/uploads/2025/05/PGA-Show-Logo-24.png
END:VEVENT
END:VCALENDAR