BEGIN:VCALENDAR
VERSION:2.0
PRODID:-//Golf Industry UK/EU - ECPv6.15.20//NONSGML v1.0//EN
CALSCALE:GREGORIAN
METHOD:PUBLISH
X-WR-CALNAME:Golf Industry UK/EU
X-ORIGINAL-URL:https://www.golfindustryukeu.com
X-WR-CALDESC:Events for Golf Industry UK/EU
REFRESH-INTERVAL;VALUE=DURATION:PT1H
X-Robots-Tag:noindex
X-PUBLISHED-TTL:PT1H
BEGIN:VTIMEZONE
TZID:Australia/Brisbane
BEGIN:STANDARD
TZOFFSETFROM:+1000
TZOFFSETTO:+1000
TZNAME:AEST
DTSTART:20240101T000000
END:STANDARD
END:VTIMEZONE
BEGIN:VTIMEZONE
TZID:Asia/Seoul
BEGIN:STANDARD
TZOFFSETFROM:+0900
TZOFFSETTO:+0900
TZNAME:KST
DTSTART:20240101T000000
END:STANDARD
END:VTIMEZONE
BEGIN:VTIMEZONE
TZID:America/Los_Angeles
BEGIN:DAYLIGHT
TZOFFSETFROM:-0800
TZOFFSETTO:-0700
TZNAME:PDT
DTSTART:20240310T100000
END:DAYLIGHT
BEGIN:STANDARD
TZOFFSETFROM:-0700
TZOFFSETTO:-0800
TZNAME:PST
DTSTART:20241103T090000
END:STANDARD
BEGIN:DAYLIGHT
TZOFFSETFROM:-0800
TZOFFSETTO:-0700
TZNAME:PDT
DTSTART:20250309T100000
END:DAYLIGHT
BEGIN:STANDARD
TZOFFSETFROM:-0700
TZOFFSETTO:-0800
TZNAME:PST
DTSTART:20251102T090000
END:STANDARD
BEGIN:DAYLIGHT
TZOFFSETFROM:-0800
TZOFFSETTO:-0700
TZNAME:PDT
DTSTART:20260308T100000
END:DAYLIGHT
BEGIN:STANDARD
TZOFFSETFROM:-0700
TZOFFSETTO:-0800
TZNAME:PST
DTSTART:20261101T090000
END:STANDARD
END:VTIMEZONE
BEGIN:VEVENT
DTSTART;TZID=Australia/Brisbane:20250428T080000
DTEND;TZID=Australia/Brisbane:20250501T170000
DTSTAMP:20260422T074833
CREATED:20250130T152816Z
LAST-MODIFIED:20250201T110724Z
UID:1762-1745827200-1746118800@www.golfindustryukeu.com
SUMMARY:2025 PGA Members' International Conference
DESCRIPTION:The PGA of Great Britain & Ireland (GB&I) has announced that its Members’ International meeting will return to Laguna Phuket Resort in Thailand for 2025. \nThe annual member meeting will be held from April 28 to May 1 and will once again bring together PGA of GB&I Members and delegates from all over the world. \nThe event\, which is open to all PGA of GB&I Members from around the globe\, including the United Kingdom and Ireland\, will take place at the beautiful beachfront property of Laguna Phuket\, with delegates from a variety of different sectors in golf coming together. \nIn addition to the education element and the chance to learn from golf industry experts\, the event affords delegates plenty of networking opportunities and is a great way to meet fellow members\, share ideas\, and socialise with some of the most respected figures in the golf industry. \nMore than 40 PGA of GB&I Members and delegates from over 15 countries attended this year’s event held at The Banyan Tree Bangkok. \nCome join Golf Industry Asia and Golf Industry Central on a few days of golf/education before this event. \nhttps://www.golfindustryukeu.com/eoi-golf-industry-educational-tour-singapore-thailand-april-2025/
URL:https://www.golfindustryukeu.com/event/2025-pga-members-international-conference/
CATEGORIES:All events
ATTACH;FMTTYPE=image/jpeg:https://www.golfindustryukeu.com/wp-content/uploads/2025/01/laguna-e1736392350871.jpg
END:VEVENT
BEGIN:VEVENT
DTSTART;TZID=Asia/Seoul:20250402T080000
DTEND;TZID=Asia/Seoul:20250404T170000
DTSTAMP:20260422T074834
CREATED:20250130T151545Z
LAST-MODIFIED:20250130T151545Z
UID:1755-1743580800-1743786000@www.golfindustryukeu.com
SUMMARY:11th Asia Golf Tourism Convention (AGTC)
DESCRIPTION:The reputation of Danang as one of the world’s most appealing golfing destinations will be underlined next year. \nThe coastal city in central Vietnam known for its sandy beaches and history as a French colonial port has been named as the venue for the 11th Asia Golf Tourism Convention (AGTC). \nOrganised by IAGTO (International Association of Golf Tour Operators)\, the AGTC will be held from April 2-4\, turning the spotlight once more on some of the region’s outstanding courses\, led by Laguna Golf Lang Co\, Montogemerie Links and Ba Na Hills Golf Club. \nIAGTO also announced that Gran Canaria and Alabama will be the venues for its two other global golf tourism sales conventions in 2025. \nThe line-up of the conventions are as follows: \n\n11th Asia Golf Tourism Convention (AGTC) in Danang\, Vietnam\, April 2-4\, 2025\n3rd IAGTO European Convention (IEC) in Gran Canaria\, Spain\, May 19-21\, 2025\n16th North America Golf Tourism Convention (NAC) in Birmingham\, Alabama\, June 17-19 June\, 2025\n\nEstablished in 1997\, IAGTO is the global trade organisation of the golf tourism industry with over 2\,200 member companies in 92 countries\, including 668 golf tour operators in 68 countries\, responsible for more than 90% of all golf vacation packages sold worldwide. \nIAGTO Chief Executive Peter Walton said: “We are proud to run the most productive\, affordable and enjoyable golf tourism sales conventions in our industry\, catering to every golf destination and every outbound market. \n“Each of our three events focuses on the destinations in that region\, attracting domestic and international golf tour operators specifically selling those destinations. \n“Acting primarily as the industry’s membership association enables us to keep participation costs down to a minimum\, while also ensuring that every interaction between buyers and suppliers is valuable. \n“Appointments are only scheduled where buyers and suppliers agree to meet each other. That may sound obvious\, but it has become a cornerstone of the success of all IAGTO events. As an example\, the 780 delegates who attended this year’s IEC chalked up an average rating of 9.2 out of 10 for overall satisfaction – which we expect is close to the summit for any travel trade event. \n“In the same survey\, 97% of supplier delegates responded that they had meetings that would definitely lead to new business and\, overall\, 43% of meetings held were with potential new clients.” \nConvention registration has been open to IAGTO tour operator and supplier members for two weeks and already more than 600 delegates have signed up across all three events. \nAligned to this announcement\, IAGTO is launching a campaign to sign up new member companies and organisations from around the world of golf travel\, including golf resorts\, hotels\, golf courses\, DMCs\, golf tour operators and golf travel advisors. \nClick here for more info
URL:https://www.golfindustryukeu.com/event/11th-asia-golf-tourism-convention-agtc/
CATEGORIES:All events
END:VEVENT
BEGIN:VEVENT
DTSTART;TZID=Australia/Brisbane:20250308T080000
DTEND;TZID=Australia/Brisbane:20250309T170000
DTSTAMP:20260422T074834
CREATED:20250303T174754Z
LAST-MODIFIED:20250303T174754Z
UID:2063-1741420800-1741539600@www.golfindustryukeu.com
SUMMARY:Golfcon 2025
DESCRIPTION:Marriott Grand Ballroom \, Pasay City\, Philippines
URL:https://www.golfindustryukeu.com/event/golfcon-2025/
CATEGORIES:All events
ATTACH;FMTTYPE=:
END:VEVENT
BEGIN:VEVENT
DTSTART;TZID=Asia/Seoul:20250207T080000
DTEND;TZID=Asia/Seoul:20250209T170000
DTSTAMP:20260422T074834
CREATED:20250130T151145Z
LAST-MODIFIED:20250130T151145Z
UID:1751-1738915200-1739120400@www.golfindustryukeu.com
SUMMARY:The Maekyung and KPGA Golf Expo
DESCRIPTION:The Maekyung and KPGA Golf Expo\, which is held every spring\, will be held at COEX B Hall in Samseong-dong\, Gangnam-gu\, Seoul from February 7-9. In particular\, RX\, the organizer of the U.S. PGA Show\, which gives a glimpse of trends in the global golf market every January\, is expected to improve the quality of the event. \nThe Maekyung and KPGA Golf Expo is expected to be a great opportunity to solve the thirst for golf that has accumulated throughout the winter. \nMAEKYUNG·KPGA GOLF EXPO 2025
URL:https://www.golfindustryukeu.com/event/the-maekyung-and-kpga-golf-expo/
CATEGORIES:All events
ATTACH;FMTTYPE=:
END:VEVENT
BEGIN:VEVENT
DTSTART;TZID=America/Los_Angeles:20250203T080000
DTEND;TZID=America/Los_Angeles:20250206T170000
DTSTAMP:20260422T074836
CREATED:20250130T150545Z
LAST-MODIFIED:20250130T150545Z
UID:1746-1738569600-1738861200@www.golfindustryukeu.com
SUMMARY:GCSAA Conference and Trade Show
DESCRIPTION:GCSAA is dedicated to serving its members\, advancing their profession and improving communities through the enjoyment\, growth and vitality of the game of golf. \nAn interactive experience you won’t find anywhere else \nClick here for further information
URL:https://www.golfindustryukeu.com/event/gcsaa-conference-and-trade-show/
CATEGORIES:All events
ATTACH;FMTTYPE=image/jpeg:https://www.golfindustryukeu.com/wp-content/uploads/2025/01/san-diego-web-header_dates_1182x185-version-3-e1738213503352.jpg
END:VEVENT
END:VCALENDAR