BEGIN:VCALENDAR
VERSION:2.0
PRODID:-//Golf Industry UK/EU - ECPv6.15.20//NONSGML v1.0//EN
CALSCALE:GREGORIAN
METHOD:PUBLISH
X-ORIGINAL-URL:https://www.golfindustryukeu.com
X-WR-CALDESC:Events for Golf Industry UK/EU
REFRESH-INTERVAL;VALUE=DURATION:PT1H
X-Robots-Tag:noindex
X-PUBLISHED-TTL:PT1H
BEGIN:VTIMEZONE
TZID:Australia/Brisbane
BEGIN:STANDARD
TZOFFSETFROM:+1000
TZOFFSETTO:+1000
TZNAME:AEST
DTSTART:20240101T000000
END:STANDARD
END:VTIMEZONE
BEGIN:VEVENT
DTSTART;TZID=Australia/Brisbane:20251014T080000
DTEND;TZID=Australia/Brisbane:20251015T170000
DTSTAMP:20260425T133114
CREATED:20250910T161506Z
LAST-MODIFIED:20250910T161506Z
UID:4477-1760428800-1760547600@www.golfindustryukeu.com
SUMMARY:Golf Business TechCon 2025
DESCRIPTION:TechCon25 is the industry’s only event showcasing current and emerging technology to improve and grow golf course businesses\n\n\nSep 09\, 2025\n\n\n\nLinkedIn\nTwitter\nEmail\nShow more sharing options\n\n\n\n\n\n\nCharleston\, S.C. (September 9\, 2025) - Golf Business TechCon 2025\, hosted by the National Golf Course Owners Association (NGCOA) October 14-15 at the Westin Dallas Stonebriar Golf Resort & Spa in Frisco\, TX\, is the golf industry’s only conference specifically designed for golf course owners\, operators\, and their staff to learn about current and emerging technology. Attendees will learn about emerging on-course\, off-course\, clubhouse and back office technologies that will help increase revenue\, improve efficiency\, modernize operations\, and make the golf experience more rewarding and enjoyable for customers. \n\nGolf Business LIVE On-Location! with Special Guest Bob Parsons\n\nBob Parsons\, Founder and CEO of PXG\, and Founder of GoDaddy\, will be interviewed by Golf Business LIVE hosts Jay Karen\, NGCOA CEO and Don Rea\, PGA\, President of the PGA of America and Owner of Augusta Ranch Golf Club\nAttendees will receive Bob’s new book\, a New York Times Bestseller\, FIRE IN THE HOLE!\n\n\nGolf Business TechCon Boot Up — The New Era of Turf Technology\n\nAn indoor/outdooor hands-on session led by Mark LeBlanc\, Senior Engineer and Product Manager at FireFly Automatix\, Frederic Paczkowski\, General Manager at SkimTurf Management\, and moderated by Michael Williams\, Executive Director\, Cyrano Communications and Contributor\, Golf Business.\n\n\nGolf Management System Experts Dive into Revenue:\n\nThe Hidden Revenue in Your GMS: How to Add Six Figures to Your Bottomline with Tools Already at Your Fingertips\n\n\nAll Corners of AI\n\nA panel of golf tech experts take a deep dive into the areas where your customers are currently\, and will soon be\, experiencing AI in their golf journey\, along with best practices for using artificial intelligence for back office operations and much more!\n\n\nFrom Insight to Action: Empowering Teams to Embrace Tech\n\nBuilding a tech-forward workforce that’s ready to implement tools and strategies to transform your team into drivers of innovation and growth. Led by James Cronk\, TechCon25 Emcee\, CEO & Co-Founder\, Golf Industry Guru\n\n\nEducation Breakout Session Highlights:\n\nData and Trends\nPricing and Back Office Strategy\nOn-Course Technology\nModern Golf Technology Experiences\nInvesting in Innovation from Kris Hart\, PGA\, Senior Director\, Growth and Ventures\, PGA of America and Don Rea\, PGA\, President\, PGA of America and Owner\, Augusta Ranch Golf Club\nData-Driven Insights from Both Sides of the Game from Jon Last\, President\, Sports and Leisure Research Group\nMore Profit\, Less Effort: Future State of Course Revenue Technology from Jake Gordon\, Co-Founder and CEO\, Noteefy and Erica Espe\, VP of Marketing\, KemperSports\nDriving Traffic: Google\, AI & the New Rules of Golf Course Marketing from Jonathan Wride\, CEO\, TenFore Golf and Mike Hendrix\, Host\, The Tech Caddie Podcast\nTee Sheet and Pricing Strategies from Chris May\, Senior Vice President\, Supreme Golf Solutions and Bruce Gerlander\, General Manager\, Walt Disney World Golf\nGolf Business Safety and Compliance Tech from Gareth Macklin\, Founder & CEO\, Obbi Golf\nAdvancements in On-Course Optimization Tech from Bodo Sieber\, CEO\, Tagmarshal\nGolf Car Tech and the Future of On-Course Hospitality from A.J. McGahee\, East Coast Regional Manager\, Direct Sales\, Yamaha Golf Car\nIrrigation Innovation from Chad Davis\, National Accounts Manager and Matt Miller\, Golf Corporate Accounts Manager\, Rain Bird\nSmart Range Technology Strategies for Growth from Jill Walsh\, Head of Strategic Partnerships\, Renewals\, and Sales North\, Toptracer\, and John Harrington\, Green Harbor Golf Club (MA)\nRevenue-Generation with Simulators and Screens with TJ Schier\, Founder & CEO\, SmashSwing Immersive\n\n\n\nThe event will also include an optional round of golf on Tuesday morning\, and an evening of fun\, food and networking at the TechCon25 Closing Reception at the Home of the PGA of America on Wednesday evening. \nTechCon25 education sessions are eligible for continuing education units for PGA of America\, LPGA\, CMAA and GCSAA. Golf course professionals can learn more and register at GolfBusinessTechCon.com. \nABOUT THE NATIONAL GOLF COURSE OWNERS ASSOCIATION\nThe NGCOA is the leading authority on the business of golf course ownership and management. The association represents and promotes the interests of golf courses as the principal businesses and economic assets of the game of golf. The not-for-profit organization is the only trade association dedicated exclusively to golf course owners and operators. Through advocacy\, education and information resources\, purchasing programs and networking opportunities\, the NGCOA helps golf course owners and operators run more successful businesses. For more information or to join\, visit ngcoa.org or call 800-933-4262.
URL:https://www.golfindustryukeu.com/event/golf-business-techcon-2025/
CATEGORIES:All events
ATTACH;FMTTYPE=:
END:VEVENT
BEGIN:VEVENT
DTSTART;TZID=Australia/Brisbane:20251030T080000
DTEND;TZID=Australia/Brisbane:20251031T170000
DTSTAMP:20260425T133114
CREATED:20250130T155515Z
LAST-MODIFIED:20250130T155515Z
UID:1774-1761811200-1761930000@www.golfindustryukeu.com
SUMMARY:Asian Golf Industry Federation (AGIF) Conference
DESCRIPTION:Kuala Lumpur\, Malaysia: Aligning with the richest LPGA Tour event in the region for the second year in succession\, the Asian Golf Industry Federation (AGIF) Conference will return to the Malaysian capital in 2025. \nFeaturing a high-profile line-up of speakers\, the Conference will take place on October 29-30 at the Sime Darby Convention Centre\, within the grounds of the Kuala Lumpur Golf & Country Club (KLGCC). \nOn the adjacent West Course at the KLGCC\, the US$3 million Maybank Championship – featuring many of the world’s top players – will be held from October 30-November 2. \n“The feedback we received from delegates at last month’s Conference has been overwhelmingly positive. There was a strong consensus from attendees to stay at the same venue\, so we’re delighted to be able to confirm the dates and venue for 2025 so far in advance\,” said Chris Gray\, President of the AGIF. \nThe 2024 Conference attracted almost 100 delegates from as far afield as Australia\, England\, India\, Myanmar\, Singapore\, Thailand\, the United States\, Vietnam and host country Malaysia. \nGray added: “Being presented once again with the opportunity to stage the Conference at the same venue and during the same week as one of the biggest professional golfing events on the Asian calendar was too good to pass up and we’re hopeful of bringing in a record number of delegates. \n“As well as offering the chance to watch the world’s finest female golfers in action on the course\, the AGIF Conference will again provide an outstanding line-up of world-class speakers and plenty of networking opportunities for delegates. \n“We’re especially grateful to the Sime Darby Convention Centre and KLGCC for accommodating us. We look forward to welcoming a wide range of golf industry personnel from around the region for what promises to be another memorable week.” \nLocated less than 20 minutes from Kuala Lumpur city centre\, the Sime Darby Convention Centre is surrounded by greenery and accessible from five major highways. \nSponsors of the 2024 AGIF Conference were Centaur Asia-Pacific\, Club Car\, Jebsen & Jessen\, Rain Bird\, Sports Turf Solutions\, The R&A and Trojan Battery.
URL:https://www.golfindustryukeu.com/event/asian-golf-industry-federation-agif-conference/
CATEGORIES:All events
ATTACH;FMTTYPE=image/png:https://www.golfindustryukeu.com/wp-content/uploads/2025/01/agif-top-logo-1-180.png
END:VEVENT
BEGIN:VEVENT
DTSTART;TZID=Australia/Brisbane:20251030T080000
DTEND;TZID=Australia/Brisbane:20251031T170000
DTSTAMP:20260425T133114
CREATED:20250910T182537Z
LAST-MODIFIED:20250910T182537Z
UID:4485-1761811200-1761930000@www.golfindustryukeu.com
SUMMARY:Vietnam Golf Course Owners Summit 2025
DESCRIPTION:In a landmark move set to redefine Vietnam's golf landscape\, the inaugural Vietnam Golf Course Owners Summit 2025 (VNGOS 2025) will take place from October 30 to 31 at the prestigious Laguna Lăng Cô Resort. This pioneering event\, focusing on the sustainable development of golf tourism and the broader golf economy\, marks a new era for Vietnam as it solidifies its position as a premier golf destination in Asia. \nThe summit is the first official forum where golf course owners\, government leaders\, and international experts will converge to establish a unified vision\, set industry standards\, and chart a long-term strategic roadmap for 2025-2030 and beyond. It is a foundational milestone aimed at affirming golf's role as a strategic driver within the nation's tourism ecosystem. \nhttps://www.golfindustryukeu.com/vietnam-to-host-inaugural-golf-course-owners-summit-targeting-sustainable-tourism-and-economic-growth/
URL:https://www.golfindustryukeu.com/event/vietnam-golf-course-owners-summit-2025/
CATEGORIES:All events
ATTACH;FMTTYPE=:
END:VEVENT
END:VCALENDAR